Workbook
Name 배점1: 설정!$B$10
Name 배점2: 설정!$B$11
Name 배점3: 설정!$B$12
Name 연도: 설정!$B$4
Name 추천인원: 설정!$B$6
Name 추첨번호: 설정!$B$7

Sheet 설정
A1: 유공 표창 심사 집계표 (가상 자료 · 연수 예제)
A2: 노란 칸만 고칩니다. 나머지는 모두 수식입니다.
A4: 연도 | B4: 2026
A5: 심사명 | B5: 인성교육 분야 유공자 표창 추천 대상자 심사
A6: 추천 인원 | B6: 2 | C6: 순위대로 이 인원만큼 추천
A7: 추첨 번호 | B7: 7 | C7: 모든 기준이 같을 때만 씁니다. 심사위원회가 그 자리에서 정한 수를 적고 회의록에 남깁니다.
A9: 심사 영역 | B9: 배점
A10: 교육활동 기여도 | B10: 50
A11: 업무 협조도 | B11: 30
A12: 공적 실적 | B12: 20
A14: 동점 처리 순서
A15: ① 세 위원 점수 합계
A16: ② 교육활동 기여도 합계
A17: ③ 공적 실적 합계
A18: ④ 그래도 같으면 추첨 번호로 추첨 (같은 번호면 언제 열어도 같은 결과)
A20: ※ 동점 처리 기준은 심사 계획(안)에 미리 적어 둔 순서와 같아야 합니다.

Sheet 위원1
A1: 위원 1 심사 점수 (가상 자료)
A2: 올린 파일의 점수를 그대로 옮겼습니다(고치지 않음). 위원 확인 뒤 고칠 때만 노란 칸을 바꿉니다.
A3: 관리 번호 | B3: 소속 | C3: 직위 | D3: 성명 | E3: 교육활동 기여도 (50) | F3: 업무 협조도 (30) | G3: 공적 실적 (20) | H3: 총점 (100)
A4: 1 | B4: A초등학교 | C4: 교사 | D4: 후보 가 | E4: 44 | F4: 28 | G4: 18 | H4: =SUM(E4:G4) -> 90
A5: 2 | B5: B초등학교 | C5: 수석교사 | D5: 후보 나 | E5: 42 | F5: 25 | G5: 16 | H5: =SUM(E5:G5) -> 83
A6: 3 | B6: C초등학교 | C6: 교사 | D6: 후보 다 | E6: 46 | F6: 28 | G6: 18 | H6: =SUM(E6:G6) -> 92
A7: 4 | B7: D중학교 | C7: 교사 | D7: 후보 라 | E7: 40 | F7: 24 | G7: 16 | H7: =SUM(E7:G7) -> 80
A8: 5 | B8: E초등학교 | C8: 교감 | D8: 후보 마 | E8: 43 | F8: 26 | G8: 17 | H8: =SUM(E8:G8) -> 86
A9: 6 | B9: F초등학교 | C9: 교사 | D9: 후보 바 | E9: 46 | F9: 26 | G9: 17 | H9: =SUM(E9:G9) -> 89
A10: 7 | B10: G중학교 | C10: 교사 | D10: 후보 사 | E10: 39 | F10: 24 | G10: 15 | H10: =SUM(E10:G10) -> 78
A11: 8 | B11: H초등학교 | C11: 부장교사 | D11: 후보 아 | E11: 41 | F11: 26 | G11: 17 | H11: =SUM(E11:G11) -> 84

Sheet 위원2
A1: 위원 2 심사 점수 (가상 자료)
A2: 올린 파일의 점수를 그대로 옮겼습니다(고치지 않음). 위원 확인 뒤 고칠 때만 노란 칸을 바꿉니다.
A3: 관리 번호 | B3: 소속 | C3: 직위 | D3: 성명 | E3: 교육활동 기여도 (50) | F3: 업무 협조도 (30) | G3: 공적 실적 (20) | H3: 총점 (100)
A4: 1 | B4: A초등학교 | C4: 교사 | D4: 후보 가 | E4: 44 | F4: 26 | G4: 18 | H4: =SUM(E4:G4) -> 88
A5: 2 | B5: B초등학교 | C5: 수석교사 | D5: 후보 나 | E5: 41 | F5: 24 | G5: 17 | H5: =SUM(E5:G5) -> 82
A6: 3 | B6: C초등학교 | C6: 교사 | D6: 후보 다 | E6: 45 | F6: 27 | G6: 18 | H6: =SUM(E6:G6) -> 90
A7: 4 | B7: D중학교 | C7: 교사 | D7: 후보 라 | E7: 41 | F7: 23 | G7: 15 | H7: =SUM(E7:G7) -> 79
A8: 5 | B8: E초등학교 | C8: 교감 | D8: 후보 마 | E8: 42 | F8: 36 | G8: 17 | H8: =SUM(E8:G8) -> 95
A9: 6 | B9: F초등학교 | C9: 교사 | D9: 후보 바 | E9: 44 | F9: 26 | G9: 17 | H9: =SUM(E9:G9) -> 87
A10: 7 | B10: G중학교 | C10: 교사 | D10: 후보 사 | E10: 40 | F10: 23 | G10: 15 | H10: =SUM(E10:G10) -> 78
A11: 8 | B11: H초등학교 | C11: 부장교사 | D11: 후보 아 | E11: 43 | F11: 25 | G11: 16 | H11: =SUM(E11:G11) -> 84

Sheet 위원3
A1: 위원 3 심사 점수 (가상 자료)
A2: 올린 파일의 점수를 그대로 옮겼습니다(고치지 않음). 위원 확인 뒤 고칠 때만 노란 칸을 바꿉니다.
A3: 관리 번호 | B3: 소속 | C3: 직위 | D3: 성명 | E3: 교육활동 기여도 (50) | F3: 업무 협조도 (30) | G3: 공적 실적 (20) | H3: 총점 (100)
A4: 1 | B4: A초등학교 | C4: 교사 | D4: 후보 가 | E4: 45 | F4: 25 | G4: 17 | H4: =SUM(E4:G4) -> 87
A5: 2 | B5: B초등학교 | C5: 수석교사 | D5: 후보 나 | E5: 43 | F5: 26 | G5: 16 | H5: =SUM(E5:G5) -> 85
A6: 3 | B6: C초등학교 | C6: 교사 | D6: 후보 다 | E6: 45 | F6: 27 | G6: 18 | H6: =SUM(E6:G6) -> 90
A7: 4 | B7: D중학교 | C7: 교사 | D7: 후보 라 | E7: 41 | F7: 25 | G7: 16 | H7: =SUM(E7:G7) -> 82
A8: 5 | B8: E초등학교 | C8: 교감 | D8: 후보 마 | E8: 44 | F8: 26 | G8: 17 | H8: =SUM(E8:G8) -> 87
A9: 6 | B9: F초등학교 | C9: 교사 | D9: 후보 바 | E9: 45 | F9: 27 | G9: 17 | H9: =SUM(E9:G9) -> 89
A10: 7 | B10: G중학교 | C10: 교사 | D10: 후보 사 | E10: 40 | F10: 25 | G10: 15 | H10: =SUM(E10:G10) -> 80
A11: 8 | B11: H초등학교 | C11: 부장교사 | D11: 후보 아 | E11: 42 | F11: 24 | G11: 16 | H11: =SUM(E11:G11) -> 82

Sheet 집계표
A1: 심사 집계표
A2: 모든 칸이 수식입니다. 위원 시트의 점수를 고치면 순위·추천·결과가 다시 계산됩니다.
A3: 관리 번호 | B3: 소속 | C3: 직위 | D3: 성명 | E3: 위원1 총점 | F3: 위원2 총점 | G3: 위원3 총점 | H3: 합계 (300) | I3: 평균 (100) | J3: 교육활동 합계 | K3: 공적 실적 합계 | L3: 추첨값 (동점 때만) | M3: 순위 | N3: 추천 | O3: 동점 처리 | P3: 점검
A4: =위원1!A4 -> 1 | B4: =위원1!B4 -> A초등학교 | C4: =위원1!C4 -> 교사 | D4: =위원1!D4 -> 후보 가 | E4: =위원1!H4 -> 90 | F4: =위원2!H4 -> 88 | G4: =위원3!H4 -> 87 | H4: =SUM(E4:G4) -> 265 | I4: =ROUND(H4/3,2) -> 88.33 | J4: =위원1!E4+위원2!E4+위원3!E4 -> 133 | K4: =위원1!G4+위원2!G4+위원3!G4 -> 53 | L4: =MOD(SIN(추첨번호*12.9898+A4*78.233)*43758.5453,1) -> 0.50375589 | M4: =1+SUMPRODUCT(($H$4:$H$11>H4)+($H$4:$H$11=H4)*($J$4:$J$11>J4)+($H$4:$H$11=H4)*($J$4:$J$11=J4)*($K$4:$K$11>K4)+($H$4:$H$11=H4)*($J$4:$J$11=J4)*($K$4:$K$11=K4)*($L$4:$L$11>L4)) -> 4 | N4: =IF(M4<=추천인원,"추천","") | O4: =IF(COUNTIF($H$4:$H$11,H4)=1,"",IF(COUNTIFS($H$4:$H$11,H4,$J$4:$J$11,J4)=1,"합계 같음 → 교육활동 기여도로",IF(COUNTIFS($H$4:$H$11,H4,$J$4:$J$11,J4,$K$4:$K$11,K4)=1,"합계·교육활동 같음 → 공적 실적으로","모든 기준 같음 → 추첨 번호 "&추첨번호&"로"))) -> 합계 같음 → 교육활동 기여도로 | P4: =TRIM(IF(위원1!E4="","위원1 교육활동 기여도 빈칸 ","")&IF(위원1!E4>배점1,"위원1 교육활동 기여도 "&위원1!E4&"점(배점 "&배점1&" 초과) ","")&IF(위원1!F4="","위원1 업무 협조도 빈칸 ","")&IF(위원1!F4>배점2,"위원1 업무 협조도 "&위원1!F4&"점(배점 "&배점2&" 초과) ","")&IF(위원1!G4="","위원1 공적 실적 빈칸 ","")&IF(위원1!G4>배점3,"위원1 공적 실적 "&위원1!G4&"점(배점 "&배점3&" 초과) ","")&IF(위원2!E4="","위원2 교육활동 기여도 빈칸 ","")&IF(위원2!E4>배점1,"위원2 교육활동 기여도 "&위원2!E4&"점(배점 "&배점1&" 초과) ","")&IF(위원2!F4="","위원2 업무 협조도 빈칸 ","")&IF(위원2!F4>배점2,"위원2 업무 협조도 "&위원2!F4&"점(배점 "&배점2&" 초과) ","")&IF(위원2!G4="","위원2 공적 실적 빈칸 ","")&IF(위원2!G4>배점3,"위원2 공적 실적 "&위원2!G4&"점(배점 "&배점3&" 초과) ","")&IF(위원3!E4="","위원3 교육활동 기여도 빈칸 ","")&IF(위원3!E4>배점1,"위원3 교육활동 기여도 "&위원3!E4&"점(배점 "&배점1&" 초과) ","")&IF(위원3!F4="","위원3 업무 협조도 빈칸 ","")&IF(위원3!F4>배점2,"위원3 업무 협조도 "&위원3!F4&"점(배점 "&배점2&" 초과) ","")&IF(위원3!G4="","위원3 공적 실적 빈칸 ","")&IF(위원3!G4>배점3,"위원3 공적 실적 "&위원3!G4&"점(배점 "&배점3&" 초과) ","")&IF(OR(위원1!D4<>위원2!D4,위원1!D4<>위원3!D4),"위원 시트끼리 성명 다름 ",""))
A5: =위원1!A5 -> 2 | B5: =위원1!B5 -> B초등학교 | C5: =위원1!C5 -> 수석교사 | D5: =위원1!D5 -> 후보 나 | E5: =위원1!H5 -> 83 | F5: =위원2!H5 -> 82 | G5: =위원3!H5 -> 85 | H5: =SUM(E5:G5) -> 250 | I5: =ROUND(H5/3,2) -> 83.33 | J5: =위원1!E5+위원2!E5+위원3!E5 -> 126 | K5: =위원1!G5+위원2!G5+위원3!G5 -> 49 | L5: =MOD(SIN(추첨번호*12.9898+A5*78.233)*43758.5453,1) -> 0.5665184 | M5: =1+SUMPRODUCT(($H$4:$H$11>H5)+($H$4:$H$11=H5)*($J$4:$J$11>J5)+($H$4:$H$11=H5)*($J$4:$J$11=J5)*($K$4:$K$11>K5)+($H$4:$H$11=H5)*($J$4:$J$11=J5)*($K$4:$K$11=K5)*($L$4:$L$11>L5)) -> 6 | N5: =IF(M5<=추천인원,"추천","") | O5: =IF(COUNTIF($H$4:$H$11,H5)=1,"",IF(COUNTIFS($H$4:$H$11,H5,$J$4:$J$11,J5)=1,"합계 같음 → 교육활동 기여도로",IF(COUNTIFS($H$4:$H$11,H5,$J$4:$J$11,J5,$K$4:$K$11,K5)=1,"합계·교육활동 같음 → 공적 실적으로","모든 기준 같음 → 추첨 번호 "&추첨번호&"로"))) -> 모든 기준 같음 → 추첨 번호 7로 | P5: =TRIM(IF(위원1!E5="","위원1 교육활동 기여도 빈칸 ","")&IF(위원1!E5>배점1,"위원1 교육활동 기여도 "&위원1!E5&"점(배점 "&배점1&" 초과) ","")&IF(위원1!F5="","위원1 업무 협조도 빈칸 ","")&IF(위원1!F5>배점2,"위원1 업무 협조도 "&위원1!F5&"점(배점 "&배점2&" 초과) ","")&IF(위원1!G5="","위원1 공적 실적 빈칸 ","")&IF(위원1!G5>배점3,"위원1 공적 실적 "&위원1!G5&"점(배점 "&배점3&" 초과) ","")&IF(위원2!E5="","위원2 교육활동 기여도 빈칸 ","")&IF(위원2!E5>배점1,"위원2 교육활동 기여도 "&위원2!E5&"점(배점 "&배점1&" 초과) ","")&IF(위원2!F5="","위원2 업무 협조도 빈칸 ","")&IF(위원2!F5>배점2,"위원2 업무 협조도 "&위원2!F5&"점(배점 "&배점2&" 초과) ","")&IF(위원2!G5="","위원2 공적 실적 빈칸 ","")&IF(위원2!G5>배점3,"위원2 공적 실적 "&위원2!G5&"점(배점 "&배점3&" 초과) ","")&IF(위원3!E5="","위원3 교육활동 기여도 빈칸 ","")&IF(위원3!E5>배점1,"위원3 교육활동 기여도 "&위원3!E5&"점(배점 "&배점1&" 초과) ","")&IF(위원3!F5="","위원3 업무 협조도 빈칸 ","")&IF(위원3!F5>배점2,"위원3 업무 협조도 "&위원3!F5&"점(배점 "&배점2&" 초과) ","")&IF(위원3!G5="","위원3 공적 실적 빈칸 ","")&IF(위원3!G5>배점3,"위원3 공적 실적 "&위원3!G5&"점(배점 "&배점3&" 초과) ","")&IF(OR(위원1!D5<>위원2!D5,위원1!D5<>위원3!D5),"위원 시트끼리 성명 다름 ",""))
A6: =위원1!A6 -> 3 | B6: =위원1!B6 -> C초등학교 | C6: =위원1!C6 -> 교사 | D6: =위원1!D6 -> 후보 다 | E6: =위원1!H6 -> 92 | F6: =위원2!H6 -> 90 | G6: =위원3!H6 -> 90 | H6: =SUM(E6:G6) -> 272 | I6: =ROUND(H6/3,2) -> 90.67 | J6: =위원1!E6+위원2!E6+위원3!E6 -> 136 | K6: =위원1!G6+위원2!G6+위원3!G6 -> 54 | L6: =MOD(SIN(추첨번호*12.9898+A6*78.233)*43758.5453,1) -> 0.12094193 | M6: =1+SUMPRODUCT(($H$4:$H$11>H6)+($H$4:$H$11=H6)*($J$4:$J$11>J6)+($H$4:$H$11=H6)*($J$4:$J$11=J6)*($K$4:$K$11>K6)+($H$4:$H$11=H6)*($J$4:$J$11=J6)*($K$4:$K$11=K6)*($L$4:$L$11>L6)) -> 1 | N6: =IF(M6<=추천인원,"추천","") -> 추천 | O6: =IF(COUNTIF($H$4:$H$11,H6)=1,"",IF(COUNTIFS($H$4:$H$11,H6,$J$4:$J$11,J6)=1,"합계 같음 → 교육활동 기여도로",IF(COUNTIFS($H$4:$H$11,H6,$J$4:$J$11,J6,$K$4:$K$11,K6)=1,"합계·교육활동 같음 → 공적 실적으로","모든 기준 같음 → 추첨 번호 "&추첨번호&"로"))) | P6: =TRIM(IF(위원1!E6="","위원1 교육활동 기여도 빈칸 ","")&IF(위원1!E6>배점1,"위원1 교육활동 기여도 "&위원1!E6&"점(배점 "&배점1&" 초과) ","")&IF(위원1!F6="","위원1 업무 협조도 빈칸 ","")&IF(위원1!F6>배점2,"위원1 업무 협조도 "&위원1!F6&"점(배점 "&배점2&" 초과) ","")&IF(위원1!G6="","위원1 공적 실적 빈칸 ","")&IF(위원1!G6>배점3,"위원1 공적 실적 "&위원1!G6&"점(배점 "&배점3&" 초과) ","")&IF(위원2!E6="","위원2 교육활동 기여도 빈칸 ","")&IF(위원2!E6>배점1,"위원2 교육활동 기여도 "&위원2!E6&"점(배점 "&배점1&" 초과) ","")&IF(위원2!F6="","위원2 업무 협조도 빈칸 ","")&IF(위원2!F6>배점2,"위원2 업무 협조도 "&위원2!F6&"점(배점 "&배점2&" 초과) ","")&IF(위원2!G6="","위원2 공적 실적 빈칸 ","")&IF(위원2!G6>배점3,"위원2 공적 실적 "&위원2!G6&"점(배점 "&배점3&" 초과) ","")&IF(위원3!E6="","위원3 교육활동 기여도 빈칸 ","")&IF(위원3!E6>배점1,"위원3 교육활동 기여도 "&위원3!E6&"점(배점 "&배점1&" 초과) ","")&IF(위원3!F6="","위원3 업무 협조도 빈칸 ","")&IF(위원3!F6>배점2,"위원3 업무 협조도 "&위원3!F6&"점(배점 "&배점2&" 초과) ","")&IF(위원3!G6="","위원3 공적 실적 빈칸 ","")&IF(위원3!G6>배점3,"위원3 공적 실적 "&위원3!G6&"점(배점 "&배점3&" 초과) ","")&IF(OR(위원1!D6<>위원2!D6,위원1!D6<>위원3!D6),"위원 시트끼리 성명 다름 ",""))
A7: =위원1!A7 -> 4 | B7: =위원1!B7 -> D중학교 | C7: =위원1!C7 -> 교사 | D7: =위원1!D7 -> 후보 라 | E7: =위원1!H7 -> 80 | F7: =위원2!H7 -> 79 | G7: =위원3!H7 -> 82 | H7: =SUM(E7:G7) -> 241 | I7: =ROUND(H7/3,2) -> 80.33 | J7: =위원1!E7+위원2!E7+위원3!E7 -> 122 | K7: =위원1!G7+위원2!G7+위원3!G7 -> 47 | L7: =MOD(SIN(추첨번호*12.9898+A7*78.233)*43758.5453,1) -> 0.42801022 | M7: =1+SUMPRODUCT(($H$4:$H$11>H7)+($H$4:$H$11=H7)*($J$4:$J$11>J7)+($H$4:$H$11=H7)*($J$4:$J$11=J7)*($K$4:$K$11>K7)+($H$4:$H$11=H7)*($J$4:$J$11=J7)*($K$4:$K$11=K7)*($L$4:$L$11>L7)) -> 7 | N7: =IF(M7<=추천인원,"추천","") | O7: =IF(COUNTIF($H$4:$H$11,H7)=1,"",IF(COUNTIFS($H$4:$H$11,H7,$J$4:$J$11,J7)=1,"합계 같음 → 교육활동 기여도로",IF(COUNTIFS($H$4:$H$11,H7,$J$4:$J$11,J7,$K$4:$K$11,K7)=1,"합계·교육활동 같음 → 공적 실적으로","모든 기준 같음 → 추첨 번호 "&추첨번호&"로"))) | P7: =TRIM(IF(위원1!E7="","위원1 교육활동 기여도 빈칸 ","")&IF(위원1!E7>배점1,"위원1 교육활동 기여도 "&위원1!E7&"점(배점 "&배점1&" 초과) ","")&IF(위원1!F7="","위원1 업무 협조도 빈칸 ","")&IF(위원1!F7>배점2,"위원1 업무 협조도 "&위원1!F7&"점(배점 "&배점2&" 초과) ","")&IF(위원1!G7="","위원1 공적 실적 빈칸 ","")&IF(위원1!G7>배점3,"위원1 공적 실적 "&위원1!G7&"점(배점 "&배점3&" 초과) ","")&IF(위원2!E7="","위원2 교육활동 기여도 빈칸 ","")&IF(위원2!E7>배점1,"위원2 교육활동 기여도 "&위원2!E7&"점(배점 "&배점1&" 초과) ","")&IF(위원2!F7="","위원2 업무 협조도 빈칸 ","")&IF(위원2!F7>배점2,"위원2 업무 협조도 "&위원2!F7&"점(배점 "&배점2&" 초과) ","")&IF(위원2!G7="","위원2 공적 실적 빈칸 ","")&IF(위원2!G7>배점3,"위원2 공적 실적 "&위원2!G7&"점(배점 "&배점3&" 초과) ","")&IF(위원3!E7="","위원3 교육활동 기여도 빈칸 ","")&IF(위원3!E7>배점1,"위원3 교육활동 기여도 "&위원3!E7&"점(배점 "&배점1&" 초과) ","")&IF(위원3!F7="","위원3 업무 협조도 빈칸 ","")&IF(위원3!F7>배점2,"위원3 업무 협조도 "&위원3!F7&"점(배점 "&배점2&" 초과) ","")&IF(위원3!G7="","위원3 공적 실적 빈칸 ","")&IF(위원3!G7>배점3,"위원3 공적 실적 "&위원3!G7&"점(배점 "&배점3&" 초과) ","")&IF(OR(위원1!D7<>위원2!D7,위원1!D7<>위원3!D7),"위원 시트끼리 성명 다름 ",""))
A8: =위원1!A8 -> 5 | B8: =위원1!B8 -> E초등학교 | C8: =위원1!C8 -> 교감 | D8: =위원1!D8 -> 후보 마 | E8: =위원1!H8 -> 86 | F8: =위원2!H8 -> 95 | G8: =위원3!H8 -> 87 | H8: =SUM(E8:G8) -> 268 | I8: =ROUND(H8/3,2) -> 89.33 | J8: =위원1!E8+위원2!E8+위원3!E8 -> 129 | K8: =위원1!G8+위원2!G8+위원3!G8 -> 51 | L8: =MOD(SIN(추첨번호*12.9898+A8*78.233)*43758.5453,1) -> 0.93155892 | M8: =1+SUMPRODUCT(($H$4:$H$11>H8)+($H$4:$H$11=H8)*($J$4:$J$11>J8)+($H$4:$H$11=H8)*($J$4:$J$11=J8)*($K$4:$K$11>K8)+($H$4:$H$11=H8)*($J$4:$J$11=J8)*($K$4:$K$11=K8)*($L$4:$L$11>L8)) -> 2 | N8: =IF(M8<=추천인원,"추천","") -> 추천 | O8: =IF(COUNTIF($H$4:$H$11,H8)=1,"",IF(COUNTIFS($H$4:$H$11,H8,$J$4:$J$11,J8)=1,"합계 같음 → 교육활동 기여도로",IF(COUNTIFS($H$4:$H$11,H8,$J$4:$J$11,J8,$K$4:$K$11,K8)=1,"합계·교육활동 같음 → 공적 실적으로","모든 기준 같음 → 추첨 번호 "&추첨번호&"로"))) | P8: =TRIM(IF(위원1!E8="","위원1 교육활동 기여도 빈칸 ","")&IF(위원1!E8>배점1,"위원1 교육활동 기여도 "&위원1!E8&"점(배점 "&배점1&" 초과) ","")&IF(위원1!F8="","위원1 업무 협조도 빈칸 ","")&IF(위원1!F8>배점2,"위원1 업무 협조도 "&위원1!F8&"점(배점 "&배점2&" 초과) ","")&IF(위원1!G8="","위원1 공적 실적 빈칸 ","")&IF(위원1!G8>배점3,"위원1 공적 실적 "&위원1!G8&"점(배점 "&배점3&" 초과) ","")&IF(위원2!E8="","위원2 교육활동 기여도 빈칸 ","")&IF(위원2!E8>배점1,"위원2 교육활동 기여도 "&위원2!E8&"점(배점 "&배점1&" 초과) ","")&IF(위원2!F8="","위원2 업무 협조도 빈칸 ","")&IF(위원2!F8>배점2,"위원2 업무 협조도 "&위원2!F8&"점(배점 "&배점2&" 초과) ","")&IF(위원2!G8="","위원2 공적 실적 빈칸 ","")&IF(위원2!G8>배점3,"위원2 공적 실적 "&위원2!G8&"점(배점 "&배점3&" 초과) ","")&IF(위원3!E8="","위원3 교육활동 기여도 빈칸 ","")&IF(위원3!E8>배점1,"위원3 교육활동 기여도 "&위원3!E8&"점(배점 "&배점1&" 초과) ","")&IF(위원3!F8="","위원3 업무 협조도 빈칸 ","")&IF(위원3!F8>배점2,"위원3 업무 협조도 "&위원3!F8&"점(배점 "&배점2&" 초과) ","")&IF(위원3!G8="","위원3 공적 실적 빈칸 ","")&IF(위원3!G8>배점3,"위원3 공적 실적 "&위원3!G8&"점(배점 "&배점3&" 초과) ","")&IF(OR(위원1!D8<>위원2!D8,위원1!D8<>위원3!D8),"위원 시트끼리 성명 다름 ","")) -> 위원2 업무 협조도 36점(배점 30 초과)
A9: =위원1!A9 -> 6 | B9: =위원1!B9 -> F초등학교 | C9: =위원1!C9 -> 교사 | D9: =위원1!D9 -> 후보 바 | E9: =위원1!H9 -> 89 | F9: =위원2!H9 -> 87 | G9: =위원3!H9 -> 89 | H9: =SUM(E9:G9) -> 265 | I9: =ROUND(H9/3,2) -> 88.33 | J9: =위원1!E9+위원2!E9+위원3!E9 -> 135 | K9: =위원1!G9+위원2!G9+위원3!G9 -> 51 | L9: =MOD(SIN(추첨번호*12.9898+A9*78.233)*43758.5453,1) -> 0.14271598 | M9: =1+SUMPRODUCT(($H$4:$H$11>H9)+($H$4:$H$11=H9)*($J$4:$J$11>J9)+($H$4:$H$11=H9)*($J$4:$J$11=J9)*($K$4:$K$11>K9)+($H$4:$H$11=H9)*($J$4:$J$11=J9)*($K$4:$K$11=K9)*($L$4:$L$11>L9)) -> 3 | N9: =IF(M9<=추천인원,"추천","") | O9: =IF(COUNTIF($H$4:$H$11,H9)=1,"",IF(COUNTIFS($H$4:$H$11,H9,$J$4:$J$11,J9)=1,"합계 같음 → 교육활동 기여도로",IF(COUNTIFS($H$4:$H$11,H9,$J$4:$J$11,J9,$K$4:$K$11,K9)=1,"합계·교육활동 같음 → 공적 실적으로","모든 기준 같음 → 추첨 번호 "&추첨번호&"로"))) -> 합계 같음 → 교육활동 기여도로 | P9: =TRIM(IF(위원1!E9="","위원1 교육활동 기여도 빈칸 ","")&IF(위원1!E9>배점1,"위원1 교육활동 기여도 "&위원1!E9&"점(배점 "&배점1&" 초과) ","")&IF(위원1!F9="","위원1 업무 협조도 빈칸 ","")&IF(위원1!F9>배점2,"위원1 업무 협조도 "&위원1!F9&"점(배점 "&배점2&" 초과) ","")&IF(위원1!G9="","위원1 공적 실적 빈칸 ","")&IF(위원1!G9>배점3,"위원1 공적 실적 "&위원1!G9&"점(배점 "&배점3&" 초과) ","")&IF(위원2!E9="","위원2 교육활동 기여도 빈칸 ","")&IF(위원2!E9>배점1,"위원2 교육활동 기여도 "&위원2!E9&"점(배점 "&배점1&" 초과) ","")&IF(위원2!F9="","위원2 업무 협조도 빈칸 ","")&IF(위원2!F9>배점2,"위원2 업무 협조도 "&위원2!F9&"점(배점 "&배점2&" 초과) ","")&IF(위원2!G9="","위원2 공적 실적 빈칸 ","")&IF(위원2!G9>배점3,"위원2 공적 실적 "&위원2!G9&"점(배점 "&배점3&" 초과) ","")&IF(위원3!E9="","위원3 교육활동 기여도 빈칸 ","")&IF(위원3!E9>배점1,"위원3 교육활동 기여도 "&위원3!E9&"점(배점 "&배점1&" 초과) ","")&IF(위원3!F9="","위원3 업무 협조도 빈칸 ","")&IF(위원3!F9>배점2,"위원3 업무 협조도 "&위원3!F9&"점(배점 "&배점2&" 초과) ","")&IF(위원3!G9="","위원3 공적 실적 빈칸 ","")&IF(위원3!G9>배점3,"위원3 공적 실적 "&위원3!G9&"점(배점 "&배점3&" 초과) ","")&IF(OR(위원1!D9<>위원2!D9,위원1!D9<>위원3!D9),"위원 시트끼리 성명 다름 ",""))
A10: =위원1!A10 -> 7 | B10: =위원1!B10 -> G중학교 | C10: =위원1!C10 -> 교사 | D10: =위원1!D10 -> 후보 사 | E10: =위원1!H10 -> 78 | F10: =위원2!H10 -> 78 | G10: =위원3!H10 -> 80 | H10: =SUM(E10:G10) -> 236 | I10: =ROUND(H10/3,2) -> 78.67 | J10: =위원1!E10+위원2!E10+위원3!E10 -> 119 | K10: =위원1!G10+위원2!G10+위원3!G10 -> 45 | L10: =MOD(SIN(추첨번호*12.9898+A10*78.233)*43758.5453,1) -> 0.057075866 | M10: =1+SUMPRODUCT(($H$4:$H$11>H10)+($H$4:$H$11=H10)*($J$4:$J$11>J10)+($H$4:$H$11=H10)*($J$4:$J$11=J10)*($K$4:$K$11>K10)+($H$4:$H$11=H10)*($J$4:$J$11=J10)*($K$4:$K$11=K10)*($L$4:$L$11>L10)) -> 8 | N10: =IF(M10<=추천인원,"추천","") | O10: =IF(COUNTIF($H$4:$H$11,H10)=1,"",IF(COUNTIFS($H$4:$H$11,H10,$J$4:$J$11,J10)=1,"합계 같음 → 교육활동 기여도로",IF(COUNTIFS($H$4:$H$11,H10,$J$4:$J$11,J10,$K$4:$K$11,K10)=1,"합계·교육활동 같음 → 공적 실적으로","모든 기준 같음 → 추첨 번호 "&추첨번호&"로"))) | P10: =TRIM(IF(위원1!E10="","위원1 교육활동 기여도 빈칸 ","")&IF(위원1!E10>배점1,"위원1 교육활동 기여도 "&위원1!E10&"점(배점 "&배점1&" 초과) ","")&IF(위원1!F10="","위원1 업무 협조도 빈칸 ","")&IF(위원1!F10>배점2,"위원1 업무 협조도 "&위원1!F10&"점(배점 "&배점2&" 초과) ","")&IF(위원1!G10="","위원1 공적 실적 빈칸 ","")&IF(위원1!G10>배점3,"위원1 공적 실적 "&위원1!G10&"점(배점 "&배점3&" 초과) ","")&IF(위원2!E10="","위원2 교육활동 기여도 빈칸 ","")&IF(위원2!E10>배점1,"위원2 교육활동 기여도 "&위원2!E10&"점(배점 "&배점1&" 초과) ","")&IF(위원2!F10="","위원2 업무 협조도 빈칸 ","")&IF(위원2!F10>배점2,"위원2 업무 협조도 "&위원2!F10&"점(배점 "&배점2&" 초과) ","")&IF(위원2!G10="","위원2 공적 실적 빈칸 ","")&IF(위원2!G10>배점3,"위원2 공적 실적 "&위원2!G10&"점(배점 "&배점3&" 초과) ","")&IF(위원3!E10="","위원3 교육활동 기여도 빈칸 ","")&IF(위원3!E10>배점1,"위원3 교육활동 기여도 "&위원3!E10&"점(배점 "&배점1&" 초과) ","")&IF(위원3!F10="","위원3 업무 협조도 빈칸 ","")&IF(위원3!F10>배점2,"위원3 업무 협조도 "&위원3!F10&"점(배점 "&배점2&" 초과) ","")&IF(위원3!G10="","위원3 공적 실적 빈칸 ","")&IF(위원3!G10>배점3,"위원3 공적 실적 "&위원3!G10&"점(배점 "&배점3&" 초과) ","")&IF(OR(위원1!D10<>위원2!D10,위원1!D10<>위원3!D10),"위원 시트끼리 성명 다름 ",""))
A11: =위원1!A11 -> 8 | B11: =위원1!B11 -> H초등학교 | C11: =위원1!C11 -> 부장교사 | D11: =위원1!D11 -> 후보 아 | E11: =위원1!H11 -> 84 | F11: =위원2!H11 -> 84 | G11: =위원3!H11 -> 82 | H11: =SUM(E11:G11) -> 250 | I11: =ROUND(H11/3,2) -> 83.33 | J11: =위원1!E11+위원2!E11+위원3!E11 -> 126 | K11: =위원1!G11+위원2!G11+위원3!G11 -> 49 | L11: =MOD(SIN(추첨번호*12.9898+A11*78.233)*43758.5453,1) -> 0.87275766 | M11: =1+SUMPRODUCT(($H$4:$H$11>H11)+($H$4:$H$11=H11)*($J$4:$J$11>J11)+($H$4:$H$11=H11)*($J$4:$J$11=J11)*($K$4:$K$11>K11)+($H$4:$H$11=H11)*($J$4:$J$11=J11)*($K$4:$K$11=K11)*($L$4:$L$11>L11)) -> 5 | N11: =IF(M11<=추천인원,"추천","") | O11: =IF(COUNTIF($H$4:$H$11,H11)=1,"",IF(COUNTIFS($H$4:$H$11,H11,$J$4:$J$11,J11)=1,"합계 같음 → 교육활동 기여도로",IF(COUNTIFS($H$4:$H$11,H11,$J$4:$J$11,J11,$K$4:$K$11,K11)=1,"합계·교육활동 같음 → 공적 실적으로","모든 기준 같음 → 추첨 번호 "&추첨번호&"로"))) -> 모든 기준 같음 → 추첨 번호 7로 | P11: =TRIM(IF(위원1!E11="","위원1 교육활동 기여도 빈칸 ","")&IF(위원1!E11>배점1,"위원1 교육활동 기여도 "&위원1!E11&"점(배점 "&배점1&" 초과) ","")&IF(위원1!F11="","위원1 업무 협조도 빈칸 ","")&IF(위원1!F11>배점2,"위원1 업무 협조도 "&위원1!F11&"점(배점 "&배점2&" 초과) ","")&IF(위원1!G11="","위원1 공적 실적 빈칸 ","")&IF(위원1!G11>배점3,"위원1 공적 실적 "&위원1!G11&"점(배점 "&배점3&" 초과) ","")&IF(위원2!E11="","위원2 교육활동 기여도 빈칸 ","")&IF(위원2!E11>배점1,"위원2 교육활동 기여도 "&위원2!E11&"점(배점 "&배점1&" 초과) ","")&IF(위원2!F11="","위원2 업무 협조도 빈칸 ","")&IF(위원2!F11>배점2,"위원2 업무 협조도 "&위원2!F11&"점(배점 "&배점2&" 초과) ","")&IF(위원2!G11="","위원2 공적 실적 빈칸 ","")&IF(위원2!G11>배점3,"위원2 공적 실적 "&위원2!G11&"점(배점 "&배점3&" 초과) ","")&IF(위원3!E11="","위원3 교육활동 기여도 빈칸 ","")&IF(위원3!E11>배점1,"위원3 교육활동 기여도 "&위원3!E11&"점(배점 "&배점1&" 초과) ","")&IF(위원3!F11="","위원3 업무 협조도 빈칸 ","")&IF(위원3!F11>배점2,"위원3 업무 협조도 "&위원3!F11&"점(배점 "&배점2&" 초과) ","")&IF(위원3!G11="","위원3 공적 실적 빈칸 ","")&IF(위원3!G11>배점3,"위원3 공적 실적 "&위원3!G11&"점(배점 "&배점3&" 초과) ","")&IF(OR(위원1!D11<>위원2!D11,위원1!D11<>위원3!D11),"위원 시트끼리 성명 다름 ",""))

Sheet 점검
A1: 점검
A2: 0건이어야 결과를 씁니다. 문제가 있으면 위원께 확인한 뒤 위원 시트의 노란 칸을 고칩니다.
A3: 점검 항목 | B3: 건수 | C3: 설명
A4: 배점을 넘는 점수 | B4: =SUMPRODUCT((위원1!E4:E11>배점1)*1)+SUMPRODUCT((위원1!F4:F11>배점2)*1)+SUMPRODUCT((위원1!G4:G11>배점3)*1)+SUMPRODUCT((위원2!E4:E11>배점1)*1)+SUMPRODUCT((위원2!F4:F11>배점2)*1)+SUMPRODUCT((위원2!G4:G11>배점3)*1)+SUMPRODUCT((위원3!E4:E11>배점1)*1)+SUMPRODUCT((위원3!F4:F11>배점2)*1)+SUMPRODUCT((위원3!G4:G11>배점3)*1) -> 1 | C4: 영역별 배점(설정 시트)보다 큰 점수
A5: 빈 칸 | B5: =COUNTBLANK(위원1!E4:G11)+COUNTBLANK(위원2!E4:G11)+COUNTBLANK(위원3!E4:G11) -> 0 | C5: 점수가 비어 있는 칸
A6: 후보 명단 다름 | B6: =SUMPRODUCT((위원1!D4:D11<>위원2!D4:D11)+(위원1!D4:D11<>위원3!D4:D11)) -> 0 | C6: 위원 시트끼리 같은 줄의 성명이 다른 곳
A7: 순위 겹침 | B7: =SUMPRODUCT((COUNTIF(집계표!M4:M11,집계표!M4:M11)>1)*1) -> 0 | C7: 같은 순위가 두 번 나온 곳
A8: 합계 | B8: =SUM(B4:B7) -> 1 | C8: =IF(B8=0,"이상 없음 — 결과 시트를 써도 됩니다","확인 필요 — 아래 위치를 위원께 확인하세요") -> 확인 필요 — 아래 위치를 위원께 확인하세요
A10: 문제 위치
A11: =IF(집계표!P4="","",집계표!D4&" (관리번호 "&집계표!A4&")") | B11: =IF(집계표!P4="","",집계표!P4)
A12: =IF(집계표!P5="","",집계표!D5&" (관리번호 "&집계표!A5&")") | B12: =IF(집계표!P5="","",집계표!P5)
A13: =IF(집계표!P6="","",집계표!D6&" (관리번호 "&집계표!A6&")") | B13: =IF(집계표!P6="","",집계표!P6)
A14: =IF(집계표!P7="","",집계표!D7&" (관리번호 "&집계표!A7&")") | B14: =IF(집계표!P7="","",집계표!P7)
A15: =IF(집계표!P8="","",집계표!D8&" (관리번호 "&집계표!A8&")") -> 후보 마 (관리번호 5) | B15: =IF(집계표!P8="","",집계표!P8) -> 위원2 업무 협조도 36점(배점 30 초과)
A16: =IF(집계표!P9="","",집계표!D9&" (관리번호 "&집계표!A9&")") | B16: =IF(집계표!P9="","",집계표!P9)
A17: =IF(집계표!P10="","",집계표!D10&" (관리번호 "&집계표!A10&")") | B17: =IF(집계표!P10="","",집계표!P10)
A18: =IF(집계표!P11="","",집계표!D11&" (관리번호 "&집계표!A11&")") | B18: =IF(집계표!P11="","",집계표!P11)

Sheet 결과
A1: =연도&"년 "&설정!B5&" 결과" -> 2026년 인성교육 분야 유공자 표창 추천 대상자 심사 결과
A2: =IF(점검!B8=0,"","※ 점검에서 문제 "&점검!B8&"건이 나왔습니다. 위원 확인 후 점수를 고친 다음 쓰세요.") -> ※ 점검에서 문제 1건이 나왔습니다. 위원 확인 후 점수를 고친 다음 쓰세요.
A4: ="추천 대상자 ("&추천인원&"명)" -> 추천 대상자 (2명)
A5: 순위 | B5: 소속 | C5: 직위 | D5: 성명 | E5: 평균 | F5: 동점 처리
A6: =IF(1>추천인원,"",1) -> 1 | B6: =IF(1>추천인원,"",INDEX(집계표!$B$4:$B$11,MATCH(1,집계표!$M$4:$M$11,0))) -> C초등학교 | C6: =IF(1>추천인원,"",INDEX(집계표!$C$4:$C$11,MATCH(1,집계표!$M$4:$M$11,0))) -> 교사 | D6: =IF(1>추천인원,"",INDEX(집계표!$D$4:$D$11,MATCH(1,집계표!$M$4:$M$11,0))) -> 후보 다 | E6: =IF(1>추천인원,"",INDEX(집계표!$I$4:$I$11,MATCH(1,집계표!$M$4:$M$11,0))) -> 90.67 | F6: =IF(1>추천인원,"",INDEX(집계표!$O$4:$O$11,MATCH(1,집계표!$M$4:$M$11,0)))
A7: =IF(2>추천인원,"",2) -> 2 | B7: =IF(2>추천인원,"",INDEX(집계표!$B$4:$B$11,MATCH(2,집계표!$M$4:$M$11,0))) -> E초등학교 | C7: =IF(2>추천인원,"",INDEX(집계표!$C$4:$C$11,MATCH(2,집계표!$M$4:$M$11,0))) -> 교감 | D7: =IF(2>추천인원,"",INDEX(집계표!$D$4:$D$11,MATCH(2,집계표!$M$4:$M$11,0))) -> 후보 마 | E7: =IF(2>추천인원,"",INDEX(집계표!$I$4:$I$11,MATCH(2,집계표!$M$4:$M$11,0))) -> 89.33 | F7: =IF(2>추천인원,"",INDEX(집계표!$O$4:$O$11,MATCH(2,집계표!$M$4:$M$11,0)))
A8: =IF(3>추천인원,"",3) | B8: =IF(3>추천인원,"",INDEX(집계표!$B$4:$B$11,MATCH(3,집계표!$M$4:$M$11,0))) | C8: =IF(3>추천인원,"",INDEX(집계표!$C$4:$C$11,MATCH(3,집계표!$M$4:$M$11,0))) | D8: =IF(3>추천인원,"",INDEX(집계표!$D$4:$D$11,MATCH(3,집계표!$M$4:$M$11,0))) | E8: =IF(3>추천인원,"",INDEX(집계표!$I$4:$I$11,MATCH(3,집계표!$M$4:$M$11,0))) | F8: =IF(3>추천인원,"",INDEX(집계표!$O$4:$O$11,MATCH(3,집계표!$M$4:$M$11,0)))
A9: =IF(4>추천인원,"",4) | B9: =IF(4>추천인원,"",INDEX(집계표!$B$4:$B$11,MATCH(4,집계표!$M$4:$M$11,0))) | C9: =IF(4>추천인원,"",INDEX(집계표!$C$4:$C$11,MATCH(4,집계표!$M$4:$M$11,0))) | D9: =IF(4>추천인원,"",INDEX(집계표!$D$4:$D$11,MATCH(4,집계표!$M$4:$M$11,0))) | E9: =IF(4>추천인원,"",INDEX(집계표!$I$4:$I$11,MATCH(4,집계표!$M$4:$M$11,0))) | F9: =IF(4>추천인원,"",INDEX(집계표!$O$4:$O$11,MATCH(4,집계표!$M$4:$M$11,0)))
A10: =IF(5>추천인원,"",5) | B10: =IF(5>추천인원,"",INDEX(집계표!$B$4:$B$11,MATCH(5,집계표!$M$4:$M$11,0))) | C10: =IF(5>추천인원,"",INDEX(집계표!$C$4:$C$11,MATCH(5,집계표!$M$4:$M$11,0))) | D10: =IF(5>추천인원,"",INDEX(집계표!$D$4:$D$11,MATCH(5,집계표!$M$4:$M$11,0))) | E10: =IF(5>추천인원,"",INDEX(집계표!$I$4:$I$11,MATCH(5,집계표!$M$4:$M$11,0))) | F10: =IF(5>추천인원,"",INDEX(집계표!$O$4:$O$11,MATCH(5,집계표!$M$4:$M$11,0)))
A12: 전체 순위
A13: 순위 | B13: 소속 | C13: 직위 | D13: 성명 | E13: 평균 | F13: 동점 처리
A14: =IF(1>8,"",1) -> 1 | B14: =IF(1>8,"",INDEX(집계표!$B$4:$B$11,MATCH(1,집계표!$M$4:$M$11,0))) -> C초등학교 | C14: =IF(1>8,"",INDEX(집계표!$C$4:$C$11,MATCH(1,집계표!$M$4:$M$11,0))) -> 교사 | D14: =IF(1>8,"",INDEX(집계표!$D$4:$D$11,MATCH(1,집계표!$M$4:$M$11,0))) -> 후보 다 | E14: =IF(1>8,"",INDEX(집계표!$I$4:$I$11,MATCH(1,집계표!$M$4:$M$11,0))) -> 90.67 | F14: =IF(1>8,"",INDEX(집계표!$O$4:$O$11,MATCH(1,집계표!$M$4:$M$11,0)))
A15: =IF(2>8,"",2) -> 2 | B15: =IF(2>8,"",INDEX(집계표!$B$4:$B$11,MATCH(2,집계표!$M$4:$M$11,0))) -> E초등학교 | C15: =IF(2>8,"",INDEX(집계표!$C$4:$C$11,MATCH(2,집계표!$M$4:$M$11,0))) -> 교감 | D15: =IF(2>8,"",INDEX(집계표!$D$4:$D$11,MATCH(2,집계표!$M$4:$M$11,0))) -> 후보 마 | E15: =IF(2>8,"",INDEX(집계표!$I$4:$I$11,MATCH(2,집계표!$M$4:$M$11,0))) -> 89.33 | F15: =IF(2>8,"",INDEX(집계표!$O$4:$O$11,MATCH(2,집계표!$M$4:$M$11,0)))
A16: =IF(3>8,"",3) -> 3 | B16: =IF(3>8,"",INDEX(집계표!$B$4:$B$11,MATCH(3,집계표!$M$4:$M$11,0))) -> F초등학교 | C16: =IF(3>8,"",INDEX(집계표!$C$4:$C$11,MATCH(3,집계표!$M$4:$M$11,0))) -> 교사 | D16: =IF(3>8,"",INDEX(집계표!$D$4:$D$11,MATCH(3,집계표!$M$4:$M$11,0))) -> 후보 바 | E16: =IF(3>8,"",INDEX(집계표!$I$4:$I$11,MATCH(3,집계표!$M$4:$M$11,0))) -> 88.33 | F16: =IF(3>8,"",INDEX(집계표!$O$4:$O$11,MATCH(3,집계표!$M$4:$M$11,0))) -> 합계 같음 → 교육활동 기여도로
A17: =IF(4>8,"",4) -> 4 | B17: =IF(4>8,"",INDEX(집계표!$B$4:$B$11,MATCH(4,집계표!$M$4:$M$11,0))) -> A초등학교 | C17: =IF(4>8,"",INDEX(집계표!$C$4:$C$11,MATCH(4,집계표!$M$4:$M$11,0))) -> 교사 | D17: =IF(4>8,"",INDEX(집계표!$D$4:$D$11,MATCH(4,집계표!$M$4:$M$11,0))) -> 후보 가 | E17: =IF(4>8,"",INDEX(집계표!$I$4:$I$11,MATCH(4,집계표!$M$4:$M$11,0))) -> 88.33 | F17: =IF(4>8,"",INDEX(집계표!$O$4:$O$11,MATCH(4,집계표!$M$4:$M$11,0))) -> 합계 같음 → 교육활동 기여도로
A18: =IF(5>8,"",5) -> 5 | B18: =IF(5>8,"",INDEX(집계표!$B$4:$B$11,MATCH(5,집계표!$M$4:$M$11,0))) -> H초등학교 | C18: =IF(5>8,"",INDEX(집계표!$C$4:$C$11,MATCH(5,집계표!$M$4:$M$11,0))) -> 부장교사 | D18: =IF(5>8,"",INDEX(집계표!$D$4:$D$11,MATCH(5,집계표!$M$4:$M$11,0))) -> 후보 아 | E18: =IF(5>8,"",INDEX(집계표!$I$4:$I$11,MATCH(5,집계표!$M$4:$M$11,0))) -> 83.33 | F18: =IF(5>8,"",INDEX(집계표!$O$4:$O$11,MATCH(5,집계표!$M$4:$M$11,0))) -> 모든 기준 같음 → 추첨 번호 7로
A19: =IF(6>8,"",6) -> 6 | B19: =IF(6>8,"",INDEX(집계표!$B$4:$B$11,MATCH(6,집계표!$M$4:$M$11,0))) -> B초등학교 | C19: =IF(6>8,"",INDEX(집계표!$C$4:$C$11,MATCH(6,집계표!$M$4:$M$11,0))) -> 수석교사 | D19: =IF(6>8,"",INDEX(집계표!$D$4:$D$11,MATCH(6,집계표!$M$4:$M$11,0))) -> 후보 나 | E19: =IF(6>8,"",INDEX(집계표!$I$4:$I$11,MATCH(6,집계표!$M$4:$M$11,0))) -> 83.33 | F19: =IF(6>8,"",INDEX(집계표!$O$4:$O$11,MATCH(6,집계표!$M$4:$M$11,0))) -> 모든 기준 같음 → 추첨 번호 7로
A20: =IF(7>8,"",7) -> 7 | B20: =IF(7>8,"",INDEX(집계표!$B$4:$B$11,MATCH(7,집계표!$M$4:$M$11,0))) -> D중학교 | C20: =IF(7>8,"",INDEX(집계표!$C$4:$C$11,MATCH(7,집계표!$M$4:$M$11,0))) -> 교사 | D20: =IF(7>8,"",INDEX(집계표!$D$4:$D$11,MATCH(7,집계표!$M$4:$M$11,0))) -> 후보 라 | E20: =IF(7>8,"",INDEX(집계표!$I$4:$I$11,MATCH(7,집계표!$M$4:$M$11,0))) -> 80.33 | F20: =IF(7>8,"",INDEX(집계표!$O$4:$O$11,MATCH(7,집계표!$M$4:$M$11,0)))
A21: =IF(8>8,"",8) -> 8 | B21: =IF(8>8,"",INDEX(집계표!$B$4:$B$11,MATCH(8,집계표!$M$4:$M$11,0))) -> G중학교 | C21: =IF(8>8,"",INDEX(집계표!$C$4:$C$11,MATCH(8,집계표!$M$4:$M$11,0))) -> 교사 | D21: =IF(8>8,"",INDEX(집계표!$D$4:$D$11,MATCH(8,집계표!$M$4:$M$11,0))) -> 후보 사 | E21: =IF(8>8,"",INDEX(집계표!$I$4:$I$11,MATCH(8,집계표!$M$4:$M$11,0))) -> 78.67 | F21: =IF(8>8,"",INDEX(집계표!$O$4:$O$11,MATCH(8,집계표!$M$4:$M$11,0)))
A23: ※ 가상 자료로 만든 연수 예제입니다. 점수는 위원이 매긴 그대로 두고, 이 파일은 집계·점검만 합니다.
